BEGIN:VCALENDAR
VERSION:2.0
PRODID:-//J.M. Dragovic - ECPv6.15.18//NONSGML v1.0//EN
CALSCALE:GREGORIAN
METHOD:PUBLISH
X-WR-CALNAME:J.M. Dragovic
X-ORIGINAL-URL:https://jamesmdragovic.art
X-WR-CALDESC:Events for J.M. Dragovic
REFRESH-INTERVAL;VALUE=DURATION:PT1H
X-Robots-Tag:noindex
X-PUBLISHED-TTL:PT1H
BEGIN:VTIMEZONE
TZID:Australia/Melbourne
BEGIN:STANDARD
TZOFFSETFROM:+1100
TZOFFSETTO:+1000
TZNAME:AEST
DTSTART:20250405T160000
END:STANDARD
BEGIN:DAYLIGHT
TZOFFSETFROM:+1000
TZOFFSETTO:+1100
TZNAME:AEDT
DTSTART:20251004T160000
END:DAYLIGHT
BEGIN:STANDARD
TZOFFSETFROM:+1100
TZOFFSETTO:+1000
TZNAME:AEST
DTSTART:20260404T160000
END:STANDARD
BEGIN:DAYLIGHT
TZOFFSETFROM:+1000
TZOFFSETTO:+1100
TZNAME:AEDT
DTSTART:20261003T160000
END:DAYLIGHT
BEGIN:STANDARD
TZOFFSETFROM:+1100
TZOFFSETTO:+1000
TZNAME:AEST
DTSTART:20270403T160000
END:STANDARD
BEGIN:DAYLIGHT
TZOFFSETFROM:+1000
TZOFFSETTO:+1100
TZNAME:AEDT
DTSTART:20271002T160000
END:DAYLIGHT
END:VTIMEZONE
BEGIN:VEVENT
DTSTART;TZID=Australia/Melbourne:20260521T200000
DTEND;TZID=Australia/Melbourne:20260521T230000
DTSTAMP:20260423T185942
CREATED:20260330T000529Z
LAST-MODIFIED:20260330T035803Z
UID:305-1779393600-1779404400@jamesmdragovic.art
SUMMARY:Dragovic (trio) w. Sunndial @ The Tav
DESCRIPTION:Dragovic is a singer-songwriter that blends the realms of folk\, blues and Celtic music into a distinctive\, contemplative and mystic style.\nHe will be exploring new compositions with a string-band entourage consisting of Meg Davidson on the contrabass and Lucrezia Torres on the violin.\n—\nSunndial is an evolving pop-soul-electronica project combining music\, movement and coming of age stories. Fresh and imaginative\, it experiments with vocals\, pianos\, sequencers and percussive synths.\n—\nTickets $20(Purchase at the door)\nLocation: Merri Creek TavernDate: 21st May 2026\nDoors open 8pm.\nThe Tav is a standing-room only venue\, seating can be provided for people with a disability
URL:https://jamesmdragovic.art/event/dragovic-trio-w-sunndial-the-tav/
END:VEVENT
END:VCALENDAR